BEGIN:VCALENDAR
VERSION:2.0
PRODID:-//CERN//INDICO//EN
BEGIN:VEVENT
SUMMARY:127. ASA
DTSTART:20260723T080000Z
DTEND:20260723T100000Z
DTSTAMP:20260424T072800Z
UID:indico-event-11658@indico.mpp.mpg.de
DESCRIPTION:https://indico.mpp.mpg.de/event/11658/
LOCATION:A.1.29 - Caucasus (MPP)
URL:https://indico.mpp.mpg.de/event/11658/
END:VEVENT
END:VCALENDAR
