BEGIN:VCALENDAR
VERSION:2.0
PRODID:-//CERN//INDICO//EN
BEGIN:VEVENT
SUMMARY:Board of Directors (683)
DTSTART:20260211T080000Z
DTEND:20260211T110000Z
DTSTAMP:20260424T121000Z
UID:indico-event-11672@indico.mpp.mpg.de
DESCRIPTION:https://indico.mpp.mpg.de/event/11672/
URL:https://indico.mpp.mpg.de/event/11672/
END:VEVENT
END:VCALENDAR
