BEGIN:VCALENDAR
VERSION:2.0
PRODID:-//CERN//INDICO//EN
BEGIN:VEVENT
SUMMARY:Modular forms and differential equations
DTSTART:20260223T140000Z
DTEND:20260223T160000Z
DTSTAMP:20260426T031800Z
UID:indico-event-11813@indico.mpp.mpg.de
DESCRIPTION:Speakers: Don Zagier (Max Planck Institute for Mathematics\, B
 onn)\n\nModular forms\, which are ubiquitous in both pure mathematicsand m
 athematical physics\, satisfy several different kinds of differential equa
 tions.  \nI will give a brief survey of these and then\, depending on the
  audience'sinterests\, concentrate either on the linear equations of Picar
 d-Fuchs typeor on the so-called modular linear differential equations that
  are playingan increasing role in conformal field theory and the study of 
 VOAs.\n\nhttps://indico.mpp.mpg.de/event/11813/
LOCATION:A.1.01 - Alps  Süd (MPP)
URL:https://indico.mpp.mpg.de/event/11813/
END:VEVENT
END:VCALENDAR
