BEGIN:VCALENDAR
VERSION:2.0
PRODID:-//CERN//INDICO//EN
BEGIN:VEVENT
SUMMARY:CFT tensor three-point structures
DTSTART:20260325T100000Z
DTEND:20260325T110000Z
DTSTAMP:20260424T153300Z
UID:indico-event-11816@indico.mpp.mpg.de
DESCRIPTION:Speakers: Paul Heslop (Durham University)\n\nThe vast majority
  of CFT bootstrap research makes use of scalar blocks due to the technical
  complication of going beyond where general analytic results are few and f
 ar between. As a first step to help go beyond we obtain a simple analytic
   formula for conserved higher spin 3-point tensor structures in 4d CFT. 
 We do this not by directly solving the conservation conditions but rather 
 in an unorthodox but very simple approach by lifting to analytic superspac
 e\, solving the constraints there and then reducing back down to the non s
 upersymmetric case. I will also comment on work in progress in other dimen
 sions.\n\nhttps://indico.mpp.mpg.de/event/11816/
LOCATION:A.1.01 - Alps  Süd (MPP)
URL:https://indico.mpp.mpg.de/event/11816/
END:VEVENT
END:VCALENDAR
